BEGIN:VCALENDAR
VERSION:2.0
PRODID:-//A Wider Bridge - ECPv6.15.5//NONSGML v1.0//EN
CALSCALE:GREGORIAN
METHOD:PUBLISH
X-ORIGINAL-URL:https://awiderbridge.org
X-WR-CALDESC:Events for A Wider Bridge
REFRESH-INTERVAL;VALUE=DURATION:PT1H
X-Robots-Tag:noindex
X-PUBLISHED-TTL:PT1H
BEGIN:VTIMEZONE
TZID:UTC
BEGIN:STANDARD
TZOFFSETFROM:+0000
TZOFFSETTO:+0000
TZNAME:UTC
DTSTART:20250101T000000
END:STANDARD
END:VTIMEZONE
BEGIN:VEVENT
DTSTART;TZID=UTC:20250312T120000
DTEND;TZID=UTC:20250312T130000
DTSTAMP:20260424T150109
CREATED:20250226T044306Z
LAST-MODIFIED:20250226T044306Z
UID:10000043-1741780800-1741784400@awiderbridge.org
SUMMARY:Just like Queen Esther- A Wider Lens Author Event
DESCRIPTION:  \nRSVP and join us March 12 at 12:00 PM ET \nMeeting Registration – Zoom\n\nJoin authors Rabbi Kerry Olitzky and Rabbi Ari Moffic for this important Purim event about honoring our true\, authentic selves. Authors will be reading the book\, and engaging the audience in Q and A.\n\nThe first 20 attendees will receive a free copy of the book!\n\nThis children’s book has important messages for those of all ages\, and elevates trans Jewish experiences\, with illustrations by trans Jewish artist Rena Yehuda Newman. Book description and link: https://us.jkp.com/products/just-like-queen-esther Atara loves to wear her crown – to the library\, to the dentist\, even to her swim lessons. It gives her confidence\, and shows the world that she is a girl\, not a boy\, like everyone thought at fi
URL:https://awiderbridge.org/event/just-like-queen-esther-a-wider-lens-author-event/
END:VEVENT
BEGIN:VEVENT
DTSTART;TZID=UTC:20250328T183000
DTEND;TZID=UTC:20250328T220000
DTSTAMP:20260424T150109
CREATED:20250318T225333Z
LAST-MODIFIED:20250318T225959Z
UID:10000044-1743186600-1743199200@awiderbridge.org
SUMMARY:IGY in Brooklyn Shabbat Dinner
DESCRIPTION:IGY in Brooklyn Shabbat Dinner\nFriday\, March 28\, 2025\n6:30 PM – 10:00 PM \nAbout the speakers: \n\nRom Ohayon: IGY Co-CEO\, longtime LGBTQ+ and human rights activist and a proud Mizrachi Jew. Fighting to create a future for LGBTQ’s\, women and marginalized groups in post Oct 7 Israel.\nOraib Awad: Clinical social worker\, head of “Alwan”\, IGY’s activity for Arab LGBTQ’s. While dealing with challenges within both Israeli and Arab communities- Oraib is leading life-saving responses and insisting on a shared future.\nJessica Van De Rovart: Inspiring activist to Transgender rights\, with focus on Trans women in sex work. With an incredible life story\, Jessica is a leading educator at IGY’s vocational college for at-risk LGBTQ’s\, fighting discrimination and poverty among LGBTQ’s in Israel.\n\nThis event is co-sponsored by JAFI (the Jewish agency for Israel)\, Eshel and PHS
URL:https://awiderbridge.org/event/igy-in-brooklyn-shabbat-dinner/
ATTACH;FMTTYPE=image/png:https://awiderbridge.org/wp-content/uploads/a303982670f543a33d9e098bfc448b4d1675bf1e-e1742338790226.png
END:VEVENT
END:VCALENDAR