BEGIN:VCALENDAR
VERSION:2.0
PRODID:-//A Wider Bridge - ECPv6.15.5//NONSGML v1.0//EN
CALSCALE:GREGORIAN
METHOD:PUBLISH
X-WR-CALNAME:A Wider Bridge
X-ORIGINAL-URL:https://awiderbridge.org
X-WR-CALDESC:Events for A Wider Bridge
REFRESH-INTERVAL;VALUE=DURATION:PT1H
X-Robots-Tag:noindex
X-PUBLISHED-TTL:PT1H
BEGIN:VTIMEZONE
TZID:America/New_York
BEGIN:DAYLIGHT
TZOFFSETFROM:-0500
TZOFFSETTO:-0400
TZNAME:EDT
DTSTART:20230312T070000
END:DAYLIGHT
BEGIN:STANDARD
TZOFFSETFROM:-0400
TZOFFSETTO:-0500
TZNAME:EST
DTSTART:20231105T060000
END:STANDARD
END:VTIMEZONE
BEGIN:VEVENT
DTSTART;TZID=America/New_York:20230313T180000
DTEND;TZID=America/New_York:20230313T180000
DTSTAMP:20260424T233805
CREATED:20230113T180004Z
LAST-MODIFIED:20230208T174945Z
UID:10000005-1678730400-1678730400@awiderbridge.org
SUMMARY:Israel @75 Gala
DESCRIPTION:We are proud to announce our annual GALA in New York City to celebrate Israel’s 75th anniversary and recognize some very special individuals.\n  \n\n\n\n\n\nPlease mark your calendars for 3.13.23!\nFor more details click here
URL:https://awiderbridge.org/event/2023gala/
ATTACH;FMTTYPE=image/jpeg:https://awiderbridge.org/wp-content/uploads/Gala-2023.jpg
END:VEVENT
END:VCALENDAR