BEGIN:VCALENDAR
VERSION:2.0
PRODID:-//A Wider Bridge - ECPv6.15.5//NONSGML v1.0//EN
CALSCALE:GREGORIAN
METHOD:PUBLISH
X-WR-CALNAME:A Wider Bridge
X-ORIGINAL-URL:https://awiderbridge.org
X-WR-CALDESC:Events for A Wider Bridge
REFRESH-INTERVAL;VALUE=DURATION:PT1H
X-Robots-Tag:noindex
X-PUBLISHED-TTL:PT1H
BEGIN:VTIMEZONE
TZID:UTC
BEGIN:STANDARD
TZOFFSETFROM:+0000
TZOFFSETTO:+0000
TZNAME:UTC
DTSTART:20250101T000000
END:STANDARD
END:VTIMEZONE
BEGIN:VEVENT
DTSTART;TZID=UTC:20250409T130000
DTEND;TZID=UTC:20250409T140000
DTSTAMP:20260421T103047
CREATED:20250318T230335Z
LAST-MODIFIED:20250403T201822Z
UID:10000045-1744203600-1744207200@awiderbridge.org
SUMMARY:Yom HaAliyah: What "Homebound" really means as a Trans Jew
DESCRIPTION:Yom HaAliyah is an Israeli holiday honoring those who have chosen to move to Israel. Making a choice to honor one’s true self is especially poignant for trans Jews making Aliyah\, like Ariel Pereira\, who brilliantly captured his journey in “Homebound” published by AWB alum Bishop Megan Rohrer. Learn more about their incredible journey and how a chance encounter at the Be’er Sheva Pride House helped publish this book. With gratitude to the Israel Policy Forum Atid for their co-sponsorship and support of this event.
URL:https://awiderbridge.org/event/yom-haaliyah-what-homebound-really-means-as-a-trans-jew/
CATEGORIES:Online event
END:VEVENT
END:VCALENDAR