BEGIN:VCALENDAR
VERSION:2.0
PRODID:-//A Wider Bridge - ECPv6.15.5//NONSGML v1.0//EN
CALSCALE:GREGORIAN
METHOD:PUBLISH
X-WR-CALNAME:A Wider Bridge
X-ORIGINAL-URL:https://awiderbridge.org
X-WR-CALDESC:Events for A Wider Bridge
REFRESH-INTERVAL;VALUE=DURATION:PT1H
X-Robots-Tag:noindex
X-PUBLISHED-TTL:PT1H
BEGIN:VTIMEZONE
TZID:America/New_York
BEGIN:DAYLIGHT
TZOFFSETFROM:-0500
TZOFFSETTO:-0400
TZNAME:EDT
DTSTART:20230312T070000
END:DAYLIGHT
BEGIN:STANDARD
TZOFFSETFROM:-0400
TZOFFSETTO:-0500
TZNAME:EST
DTSTART:20231105T060000
END:STANDARD
END:VTIMEZONE
BEGIN:VEVENT
DTSTART;TZID=America/New_York:20230330T130000
DTEND;TZID=America/New_York:20230330T140000
DTSTAMP:20260423T044604
CREATED:20230322T095716Z
LAST-MODIFIED:20230322T095758Z
UID:10000009-1680181200-1680184800@awiderbridge.org
SUMMARY:Pre - Passover Cooking Class
DESCRIPTION:=\nPassover is right around the corner. Are you ready?\nWhether you like to cook or just like to eat\, join us as Israeli chef Ayelet Latovitch invites us into her kitchen to make delicious Passover cuisine. \nThroughout history\, regardless of politics or current events\, Jews find ways to connect with their holidays and history — and food is always at the center. Come cook along with Chef Ayelet during the livestream or view the recording later when you’re in your own kitchen. \nAWB Vice Chair Daniel Hernandez will host this virtual cooking demo\, where your questions will be welcome. \nYou don’t have to be Jewish! People of all and no faiths are welcome.\n  \nSign up today\n  \n  \n 
URL:https://awiderbridge.org/event/pre-passover-cooking-class/
CATEGORIES:Online event
ATTACH;FMTTYPE=image/jpeg:https://awiderbridge.org/wp-content/uploads/Ayelet628-copy-2.jpg
END:VEVENT
END:VCALENDAR