BEGIN:VCALENDAR
VERSION:2.0
PRODID:-//A Wider Bridge - ECPv6.15.5//NONSGML v1.0//EN
CALSCALE:GREGORIAN
METHOD:PUBLISH
X-WR-CALNAME:A Wider Bridge
X-ORIGINAL-URL:https://awiderbridge.org
X-WR-CALDESC:Events for A Wider Bridge
REFRESH-INTERVAL;VALUE=DURATION:PT1H
X-Robots-Tag:noindex
X-PUBLISHED-TTL:PT1H
BEGIN:VTIMEZONE
TZID:America/New_York
BEGIN:DAYLIGHT
TZOFFSETFROM:-0500
TZOFFSETTO:-0400
TZNAME:EDT
DTSTART:20230312T070000
END:DAYLIGHT
BEGIN:STANDARD
TZOFFSETFROM:-0400
TZOFFSETTO:-0500
TZNAME:EST
DTSTART:20231105T060000
END:STANDARD
END:VTIMEZONE
BEGIN:VEVENT
DTSTART;TZID=America/New_York:20230820T123000
DTEND;TZID=America/New_York:20230820T140000
DTSTAMP:20260422T184940
CREATED:20230731T194731Z
LAST-MODIFIED:20230731T194836Z
UID:10000004-1692534600-1692540000@awiderbridge.org
SUMMARY:August Community Service Day
DESCRIPTION:Help us to make our beaches pristine so that we can all enjoy the beauty in our backyard and protect ocean animals. It’s an opportunity to make a positive impact on our environment while spending quality time with service-minded members of our community. \nThe clean-up is co-sponsored by our Rautenberg New Leaders Project (NLP)\, the Office of L.A. County Supervisor Lindsey P. Horvath\, A Wider Bridge\, JQ International\, and Keshet. In light of the recent anti-LGBTQIA+ and antisemitic graffiti that was left at Ginger Rogers Beach\, the Federation reaffirms our commitment to stand in solidarity against all forms of hate. We look forward to welcoming our NLP participants and their families\, as well as our LGBTQIA+ community for this uplifting day of service. \nSunday\, August 20th at Topanga State Beach\n9:30 AM – 11:00 AM\nExact location info will be shared with registrants in advance of the event.\nVolunteers of all ages are welcome. Please remember to bring sunscreen\, a hat\, and water. \n  \nSign up today!
URL:https://awiderbridge.org/event/august-community-service-day/
CATEGORIES:Online event
ATTACH;FMTTYPE=image/jpeg:https://awiderbridge.org/wp-content/uploads/24342-July-CSD-Facebook_v2-1-e1690832906391.jpg
END:VEVENT
END:VCALENDAR