BEGIN:VCALENDAR
VERSION:2.0
PRODID:-//A Wider Bridge - ECPv6.15.5//NONSGML v1.0//EN
CALSCALE:GREGORIAN
METHOD:PUBLISH
X-ORIGINAL-URL:https://awiderbridge.org
X-WR-CALDESC:Events for A Wider Bridge
REFRESH-INTERVAL;VALUE=DURATION:PT1H
X-Robots-Tag:noindex
X-PUBLISHED-TTL:PT1H
BEGIN:VTIMEZONE
TZID:America/New_York
BEGIN:DAYLIGHT
TZOFFSETFROM:-0500
TZOFFSETTO:-0400
TZNAME:EDT
DTSTART:20250309T070000
END:DAYLIGHT
BEGIN:STANDARD
TZOFFSETFROM:-0400
TZOFFSETTO:-0500
TZNAME:EST
DTSTART:20251102T060000
END:STANDARD
END:VTIMEZONE
BEGIN:VEVENT
DTSTART;TZID=America/New_York:20251215T190000
DTEND;TZID=America/New_York:20251215T220000
DTSTAMP:20260422T153150
CREATED:20251211T171833Z
LAST-MODIFIED:20251211T200441Z
UID:10000121-1765825200-1765836000@awiderbridge.org
SUMMARY:Ignite the Night [New York]
DESCRIPTION:A Wider Bridge and Queers Against Antisemitism joins together with Eshel\, JQY\, UJA/NY\, Sephardic Mizrahi Q Network\, Shalom Dykes\, Marlene Meyerson JCC\, and Keshet for the Annual LGBTQ+ Chanukah Party! Celebrate Night Two of the Festival of Lights with the LGBTQ+ Jewish community of NYC! Enjoy a dairy dinner–complete with latkes\, sufganiyot\, and chocolate gelt–a wine bar\, and DJ! We will eat\, drink\, dance\, and have a special candle lighting ceremony. Let’s ignite the night together! \nDate: December 15\, 2025\nTime: 7-10pm (volunteer shifts begin at 5pm) \nThe JCC facilities are elevator and ramp accessible. If you have additional access needs or questions\, email info@eshelonline.org. \nAt the door – $40 \nRegular Ticket – $36 \nStudent Ticket – $18 \nA limited number of comped tickets will be offered to volunteers. To learn more about volunteer opportunities and expectations\, please contact info@eshelonline.org. \nSign Up \n 
URL:https://awiderbridge.org/event/chanukah-party-new-york/
CATEGORIES:New York
ATTACH;FMTTYPE=image/png:https://awiderbridge.org/wp-content/uploads/Chanukah-Party-2025-e1765473405125.png
END:VEVENT
END:VCALENDAR