BEGIN:VCALENDAR
VERSION:2.0
PRODID:-//A Wider Bridge - ECPv6.15.5//NONSGML v1.0//EN
CALSCALE:GREGORIAN
METHOD:PUBLISH
X-ORIGINAL-URL:https://awiderbridge.org
X-WR-CALDESC:Events for A Wider Bridge
REFRESH-INTERVAL;VALUE=DURATION:PT1H
X-Robots-Tag:noindex
X-PUBLISHED-TTL:PT1H
BEGIN:VTIMEZONE
TZID:UTC
BEGIN:STANDARD
TZOFFSETFROM:+0000
TZOFFSETTO:+0000
TZNAME:UTC
DTSTART:20250101T000000
END:STANDARD
END:VTIMEZONE
BEGIN:VEVENT
DTSTART;TZID=UTC:20251024T130000
DTEND;TZID=UTC:20251024T140000
DTSTAMP:20260422T124839
CREATED:20250915T203634Z
LAST-MODIFIED:20250915T203634Z
UID:10000098-1761310800-1761314400@awiderbridge.org
SUMMARY:AntiSemitism LGBTQ+ Support Group
DESCRIPTION:A Wider Bridge and Queers Against Antisemitism and Jewish Community Mental Health Initiative (JCMHI) invite you to an Antisemitism LGBTQ+ Support group\, providing a special safe space for our community to share\, contemplate and support each other during these times where antisemitism is raging even within our own LGBTQ+ community. This group is  sponsored by a grant from UJA/NY on 5 consecutive Friday afternoons in October. It will be co-facilitated by Molly Harris\, MSW LCSW\, CST and Rabbi Denise L. Eger\, D.D.\, PCC \nThe Dates: October 3\, 10\, 17\, 24\, 31\nTime: 1 pm – 2 pm ET on Zoom\nSign Up* \nSign up to all 5 sessions \n\n*By registering for this support group\, I agree to the guidelines and disclaimer written here. \nAbout Molly Harris\, MSW\, LCSW\, CST\nMolly is a Licensed Clinical Social Worker and an AASECT Certified Sex Therapist with a focus on inclusivity and non-judgmental self-exploration. She received her BA in Psychology from the University of Denver and continued her education obtaining her MSW from the Graduate School of Social Work. Molly specializes in working with struggles related to oppressed identities\, hidden disabilities\, and societal stigma. She has primarily worked in the field of Eating Disorders and Gender & Sexuality (LGBTQIA+)\, and she is comfortable with clients\, couples\, or families facing any struggle. Molly uses an empowerment-focused approach alongside humor\, compassion\, and validation to help her client(s) identify their needs\, challenges\, and goals in the therapeutic space. She focuses on collaboration and building an affirming client-therapist relationship. In addition to private practice\, Molly conducts workshops\, in-service trainings\, and consultations to the general public and mental health professionals to help spread knowledge and awareness of gender\, sexuality\, and body image. Molly also serves as a volunteer support group facilitator through the Jewish Community Mental Health Initiative (JCMHI)\, providing support for the Jewish community and offering this series in collaboration with JCMHI and A Wider Bridge. \nAbout Rabbi Denise L. Eger\, D.D.\, PCC\nRabbi Denise L. Eger is an international Jewish leader\, author\, speaker\, and activist\, known as the first openly LGBTQ person to serve as president of the Central Conference of American Rabbis and the first woman to lead the Southern California Board of Rabbis. Founding Rabbi Emerita of Congregation Kol Ami in West Hollywood\, she is the author or editor of 7 Principles for Living Bravely\, Mishkan Ga’avah: Where Pride Dwells\, and Gender & Religious Leadership: Women Rabbis\, Pastors\, and Ministers\, and has contributed to numerous other works. Named one of the most influential Jews by The Forward and the #1 LGBT Clergy Person by The Huffington Post\, she is also a PCC-accredited executive coach who works with clergy\, nonprofit leaders\, and organizations. Rabbi Eger lives in Austin\, Texas\, with her wife\, Rabbi Dr. Eleanor Steinman\, and together they are proud parents and grandparents. \n  \n  \nGroup guidelines and disclaimer
URL:https://awiderbridge.org/event/antisemitism-lgbtq-support-group-4/
CATEGORIES:Online event
ATTACH;FMTTYPE=image/jpeg:https://awiderbridge.org/wp-content/uploads/AWB-featured-size-flag.jpg
END:VEVENT
BEGIN:VEVENT
DTSTART;TZID=UTC:20251024T190000
DTEND;TZID=UTC:20251024T210000
DTSTAMP:20260422T124839
CREATED:20251003T141714Z
LAST-MODIFIED:20251016T200903Z
UID:10000109-1761332400-1761339600@awiderbridge.org
SUMMARY:Shabbat Dinner [Chicago]
DESCRIPTION:Celebrate Shabbat with flair\, laughter\, and joy! A “Gay Shabbos” dinner where queer Jews of every stripe come together – whether you’re Orthodox\, Reform\, Conservative\, Reconstructionist\, post-denominational\, patrilineal\, a proud convert\, cultural-only\, or just finding your way back to Jewish life. Expect Jewish joy\, soulful modern ritual\, fabulous food\, and a table big enough for all of us. In partnership with Ami. \nFill out my LGL Form!
URL:https://awiderbridge.org/event/shabbat-dinner-chicago/
CATEGORIES:Chicago
ATTACH;FMTTYPE=image/jpeg:https://awiderbridge.org/wp-content/uploads/AWB-featured-shabbat.jpg
END:VEVENT
END:VCALENDAR