BEGIN:VCALENDAR
VERSION:2.0
PRODID:-//A Wider Bridge - ECPv6.15.5//NONSGML v1.0//EN
CALSCALE:GREGORIAN
METHOD:PUBLISH
X-WR-CALNAME:A Wider Bridge
X-ORIGINAL-URL:https://awiderbridge.org
X-WR-CALDESC:Events for A Wider Bridge
REFRESH-INTERVAL;VALUE=DURATION:PT1H
X-Robots-Tag:noindex
X-PUBLISHED-TTL:PT1H
BEGIN:VTIMEZONE
TZID:UTC
BEGIN:STANDARD
TZOFFSETFROM:+0000
TZOFFSETTO:+0000
TZNAME:UTC
DTSTART:20250101T000000
END:STANDARD
END:VTIMEZONE
BEGIN:VEVENT
DTSTART;TZID=UTC:20250803T150000
DTEND;TZID=UTC:20250803T170000
DTSTAMP:20260422T114747
CREATED:20250714T203930Z
LAST-MODIFIED:20250716T183713Z
UID:10000073-1754233200-1754240400@awiderbridge.org
SUMMARY:Screening: The First Lady [San Francisco]
DESCRIPTION:The First Lady: A Special Afternoon with Filmmakers and Activist Efrat Tilma \nSunday\, August 3\, 2025 / 3:00–5:00 PM \nJoin A Wider Bridge and Congregation Sha’ar Zahav for an inspiring afternoon celebrating The First Lady\, a powerful new documentary spotlighting Israeli trans trailblazer Efrat Tilma. \nYou’ll hear from the film’s acclaimed directors Udi Nir & Sagi Bornstein\, enjoy a special live lip-sync performance by Efrat herself\, and take part in an intimate conversation about a bold new initiative: launching Israel’s first and only free mental health clinic dedicated to the trans community. This groundbreaking project comes at a time of growing urgency\, as LGBTQIA+ protections in Israel face increasing political threats. \nDon’t miss this unique opportunity to engage\, be moved\, and learn how you too can support this vital new project. \nLight refreshments will be served. \nFill out my LGL Form! \nThe First Lady\nDirectors: Sagi Bornstein and Udi Nir\n2025\nFearing for her life\, Israeli transgender pioneer Efrat Tilma fled the country as a teenager. Now in her seventies\, she must fight for her freedom once again\, as the country spirals into political and social regression.
URL:https://awiderbridge.org/event/screening-the-first-lady-san-francisco/
CATEGORIES:San Francisco,West Coast
ATTACH;FMTTYPE=image/jpeg:https://awiderbridge.org/wp-content/uploads/AWB-featured-movie-the-first-lady.jpg
END:VEVENT
END:VCALENDAR