BEGIN:VCALENDAR
VERSION:2.0
PRODID:-//A Wider Bridge - ECPv6.15.5//NONSGML v1.0//EN
CALSCALE:GREGORIAN
METHOD:PUBLISH
X-WR-CALNAME:A Wider Bridge
X-ORIGINAL-URL:https://awiderbridge.org
X-WR-CALDESC:Events for A Wider Bridge
REFRESH-INTERVAL;VALUE=DURATION:PT1H
X-Robots-Tag:noindex
X-PUBLISHED-TTL:PT1H
BEGIN:VTIMEZONE
TZID:UTC
BEGIN:STANDARD
TZOFFSETFROM:+0000
TZOFFSETTO:+0000
TZNAME:UTC
DTSTART:20250101T000000
END:STANDARD
END:VTIMEZONE
BEGIN:VEVENT
DTSTART;TZID=UTC:20250429T120000
DTEND;TZID=UTC:20250429T130000
DTSTAMP:20260424T134837
CREATED:20250404T192443Z
LAST-MODIFIED:20250409T211321Z
UID:10000048-1745928000-1745931600@awiderbridge.org
SUMMARY:Israel in Crisis: An Update from LGBTQ Israel [Gesher Society Exclusive]
DESCRIPTION:The worst kept secret is out–Israel is in crisis. But the secret to Israeli LGBTQ resilience…thankfully we’re keeping that one safe for those who are able to help us mobilize in this critical moment. \nOn April 29th\, we invite you to join us in a critical conversation at this critical time in Israel. Yom Hatzmaut and Yom HaZikaron are two Israeli holidays that evoke very different emotions–one of immense patriotism and another of immense pain. Imry Zagury\, VP of public affairs at the Aguda and AWB’s Israel communities manager\, will educate key AWB stakeholders in this event on the history of LGBTQ rights in Israel\, what’s being done now\, and most importantly\, what supporters can do to help. \n*This event is exclusive for A Wider Bridge supporters an alumni
URL:https://awiderbridge.org/event/the-lgbtq-public-struggle-from-the-margins-to-the-heart-of-israeli-society-gesher-society-exclusive/
CATEGORIES:Online event
ATTACH;FMTTYPE=image/jpeg:https://awiderbridge.org/wp-content/uploads/AWB-featured-israel-in-crisis.jpg
LOCATION:
END:VEVENT
END:VCALENDAR