BEGIN:VCALENDAR
VERSION:2.0
PRODID:-//A Wider Bridge - ECPv6.15.5//NONSGML v1.0//EN
CALSCALE:GREGORIAN
METHOD:PUBLISH
X-ORIGINAL-URL:https://awiderbridge.org
X-WR-CALDESC:Events for A Wider Bridge
REFRESH-INTERVAL;VALUE=DURATION:PT1H
X-Robots-Tag:noindex
X-PUBLISHED-TTL:PT1H
BEGIN:VTIMEZONE
TZID:UTC
BEGIN:STANDARD
TZOFFSETFROM:+0000
TZOFFSETTO:+0000
TZNAME:UTC
DTSTART:20250101T000000
END:STANDARD
END:VTIMEZONE
BEGIN:VEVENT
DTSTART;TZID=UTC:20250406T120000
DTEND;TZID=UTC:20250406T140000
DTSTAMP:20260424T145955
CREATED:20250318T230734Z
LAST-MODIFIED:20250318T230734Z
UID:10000046-1743940800-1743948000@awiderbridge.org
SUMMARY:Miami Beach Pride Parade
DESCRIPTION:
URL:https://awiderbridge.org/event/miami-beach-pride-parade/
END:VEVENT
END:VCALENDAR