BEGIN:VCALENDAR
VERSION:2.0
PRODID:-//A Wider Bridge - ECPv6.15.5//NONSGML v1.0//EN
CALSCALE:GREGORIAN
METHOD:PUBLISH
X-ORIGINAL-URL:https://awiderbridge.org
X-WR-CALDESC:Events for A Wider Bridge
REFRESH-INTERVAL;VALUE=DURATION:PT1H
X-Robots-Tag:noindex
X-PUBLISHED-TTL:PT1H
BEGIN:VTIMEZONE
TZID:UTC
BEGIN:STANDARD
TZOFFSETFROM:+0000
TZOFFSETTO:+0000
TZNAME:UTC
DTSTART:20250101T000000
END:STANDARD
END:VTIMEZONE
BEGIN:VEVENT
DTSTART;TZID=UTC:20250127T173000
DTEND;TZID=UTC:20250127T193000
DTSTAMP:20260424T181152
CREATED:20250113T103332Z
LAST-MODIFIED:20250113T103332Z
UID:10000041-1737999000-1738006200@awiderbridge.org
SUMMARY:Queer Happy Hour in San Francisco!
DESCRIPTION:
URL:https://awiderbridge.org/event/queer-happy-hour-in-san-francisco/
END:VEVENT
END:VCALENDAR